BEGIN:VCALENDAR
VERSION:2.0
PRODID:-//Sustainable Parties  - ECPv6.15.19//NONSGML v1.0//EN
CALSCALE:GREGORIAN
METHOD:PUBLISH
X-ORIGINAL-URL:https://sustainableparties.com
X-WR-CALDESC:Events for Sustainable Parties 
REFRESH-INTERVAL;VALUE=DURATION:PT1H
X-Robots-Tag:noindex
X-PUBLISHED-TTL:PT1H
BEGIN:VTIMEZONE
TZID:UTC
BEGIN:STANDARD
TZOFFSETFROM:+0000
TZOFFSETTO:+0000
TZNAME:UTC
DTSTART:20220101T000000
END:STANDARD
END:VTIMEZONE
BEGIN:VEVENT
DTSTART;TZID=UTC:20230817T080000
DTEND;TZID=UTC:20231117T170000
DTSTAMP:20260421T174443
CREATED:20230817T193112Z
LAST-MODIFIED:20230817T193152Z
UID:1225-1692259200-1700240400@sustainableparties.com
SUMMARY:Back to School OC
DESCRIPTION:Calling all teachers\,\, school administrators & PTA!\nGet back-school-ready with Festiveknicknacks Sustainable Parties as you prepare for classroom.\nTeachers and school administrators receive a Free Party Kit Rental on our website & Free Teacher Resources. The Free Teacher Resources are as follows: ( Free Party Kit Rentals\, Classroom Presentation\, Teacher Workshops\, Parent Workshops\, PTA Collaboration\, Eco-friendly Party Planner & School Event Sponsor)\nTo redeem your Free Party Kit ( a box of reusable tableware & reusable decorations) or any of our Free Teacher Resources\, email your request  at rent@sustainableparties.com with your classroom details or show your school ID!\nTag a teacher\, school administrators and PTA members in the comments to let them know. 👩🏼‍🏫📚\nTo support our Sustainable Small Business\, follow us on Facebook & Instagram at Festiveknicknacks Sustainable Parties.
URL:https://sustainableparties.com/event/1225/
LOCATION:CA
ATTACH;FMTTYPE=image/png:https://sustainableparties.com/wp-content/uploads/2023/08/back-to-school-oc.png
END:VEVENT
BEGIN:VEVENT
DTSTART;TZID=UTC:20230930T110000
DTEND;TZID=UTC:20230930T130000
DTSTAMP:20260421T174443
CREATED:20230909T052110Z
LAST-MODIFIED:20230909T054155Z
UID:1230-1696071600-1696078800@sustainableparties.com
SUMMARY:Community Book & Clothing Swap
DESCRIPTION:Don’t miss out on this incredible event! Experience secondhand by swapping 10 clothing pieces or small household goods. Hosted by your Neighborhood Realtor\, Sunny Esther Wheeler from Sunshine Homes Orange County & your Neighborhood Social Entrepreneur Dayna López-Price from Sustainable Parties. At the end of the event\, the items are donated to the Orange County Rescue Mission & other nonprofit organizations. Make small changes to save the world.🌎
URL:https://sustainableparties.com/event/community-book-clothing-swap/
LOCATION:Montecido Clubhouse\, 19382 Red Bluff Drive\, Portola Hills\, CA\, 92679\, United States
ATTACH;FMTTYPE=application/pdf:https://sustainableparties.com/wp-content/uploads/2023/09/Free-Community-Book-Clothing-Swap.pdf
END:VEVENT
END:VCALENDAR