BEGIN:VCALENDAR
VERSION:2.0
PRODID:-//Sustainable Parties  - ECPv6.15.19//NONSGML v1.0//EN
CALSCALE:GREGORIAN
METHOD:PUBLISH
X-WR-CALNAME:Sustainable Parties 
X-ORIGINAL-URL:https://sustainableparties.com
X-WR-CALDESC:Events for Sustainable Parties 
REFRESH-INTERVAL;VALUE=DURATION:PT1H
X-Robots-Tag:noindex
X-PUBLISHED-TTL:PT1H
BEGIN:VTIMEZONE
TZID:UTC
BEGIN:STANDARD
TZOFFSETFROM:+0000
TZOFFSETTO:+0000
TZNAME:UTC
DTSTART:20210101T000000
END:STANDARD
END:VTIMEZONE
BEGIN:VEVENT
DTSTART;TZID=UTC:20221022T110000
DTEND;TZID=UTC:20221022T130000
DTSTAMP:20260422T081848
CREATED:20221220T214442Z
LAST-MODIFIED:20230101T160908Z
UID:226-1666436400-1666443600@sustainableparties.com
SUMMARY:Take Your Clutter to the Park Day Swap & Share
DESCRIPTION:11am-1pm. Free parking. Patio adjacent to library with several picnic tables is the location.
URL:https://sustainableparties.com/event/swap-share-sunday-at-irvine-ranch-historic-park/
LOCATION:Irvine Ranch Historic Park\, 13042 Old Myford Rd\, Irvine\, CA\, 92602\, United States
END:VEVENT
END:VCALENDAR