BEGIN:VCALENDAR
VERSION:2.0
PRODID:-//Sustainable Parties  - ECPv6.15.19//NONSGML v1.0//EN
CALSCALE:GREGORIAN
METHOD:PUBLISH
X-WR-CALNAME:Sustainable Parties 
X-ORIGINAL-URL:https://sustainableparties.com
X-WR-CALDESC:Events for Sustainable Parties 
REFRESH-INTERVAL;VALUE=DURATION:PT1H
X-Robots-Tag:noindex
X-PUBLISHED-TTL:PT1H
BEGIN:VTIMEZONE
TZID:UTC
BEGIN:STANDARD
TZOFFSETFROM:+0000
TZOFFSETTO:+0000
TZNAME:UTC
DTSTART:20210101T000000
END:STANDARD
END:VTIMEZONE
BEGIN:VEVENT
DTSTART;TZID=UTC:20220603T130000
DTEND;TZID=UTC:20220603T160000
DTSTAMP:20260422T150600
CREATED:20221228T051536Z
LAST-MODIFIED:20221230T125101Z
UID:320-1654261200-1654272000@sustainableparties.com
SUMMARY:Eco-Friendly Gift Wrapping Workshop
DESCRIPTION:Come join us to participate in this eco-friendly workshop.
URL:https://sustainableparties.com/event/eco-friendly-gift-wrapping-workshop/
LOCATION:Hicks Canyon Park\, 3864 Viewpark Ave\, Irvine\, CA\, 92602\, United States
END:VEVENT
END:VCALENDAR