BEGIN:VCALENDAR
VERSION:2.0
PRODID:-//Sustainable Parties  - ECPv6.15.19//NONSGML v1.0//EN
CALSCALE:GREGORIAN
METHOD:PUBLISH
X-WR-CALNAME:Sustainable Parties 
X-ORIGINAL-URL:https://sustainableparties.com
X-WR-CALDESC:Events for Sustainable Parties 
REFRESH-INTERVAL;VALUE=DURATION:PT1H
X-Robots-Tag:noindex
X-PUBLISHED-TTL:PT1H
BEGIN:VTIMEZONE
TZID:UTC
BEGIN:STANDARD
TZOFFSETFROM:+0000
TZOFFSETTO:+0000
TZNAME:UTC
DTSTART:20220101T000000
END:STANDARD
END:VTIMEZONE
BEGIN:VEVENT
DTSTART;TZID=UTC:20231203T140000
DTEND;TZID=UTC:20231203T170000
DTSTAMP:20260421T151420
CREATED:20231118T044504Z
LAST-MODIFIED:20231118T044504Z
UID:1261-1701612000-1701622800@sustainableparties.com
SUMMARY:Ugly Sweater Christmas Party
DESCRIPTION:Who’s ready for an Ugly Sweater Christmas Party? Even better- a collab event with @partiessustainable @festiveknicknacks with cookie decorating\, games\, treats\, and prizes?! 🙂 All this is taking place Sunday December 3rd in Costa Mesa! Grab your tickets before they’re gone!\nRegister at\nhttps://coastlinecookiesco.com/products/collab-event-with-festiveknickknacks-sustainable-parties-sunday-december-3rd-from-2-5-pm
URL:https://sustainableparties.com/event/ugly-sweater-christmas-party/
LOCATION:Cape Apartments Clubhouse\, 1000 S Coast Dr\, Costa Mesa\, CA\, 92626\, United States
ATTACH;FMTTYPE=image/jpeg:https://sustainableparties.com/wp-content/uploads/2023/11/401833730_677025524535503_2907418227056902391_n.jpg
END:VEVENT
END:VCALENDAR