BEGIN:VCALENDAR
VERSION:2.0
PRODID:-//Sustainable Parties  - ECPv6.15.19//NONSGML v1.0//EN
CALSCALE:GREGORIAN
METHOD:PUBLISH
X-ORIGINAL-URL:https://sustainableparties.com
X-WR-CALDESC:Events for Sustainable Parties 
REFRESH-INTERVAL;VALUE=DURATION:PT1H
X-Robots-Tag:noindex
X-PUBLISHED-TTL:PT1H
BEGIN:VTIMEZONE
TZID:UTC
BEGIN:STANDARD
TZOFFSETFROM:+0000
TZOFFSETTO:+0000
TZNAME:UTC
DTSTART:20220101T000000
END:STANDARD
END:VTIMEZONE
BEGIN:VEVENT
DTSTART;TZID=UTC:20230429T113000
DTEND;TZID=UTC:20230429T153000
DTSTAMP:20260422T013204
CREATED:20230424T210509Z
LAST-MODIFIED:20230424T211812Z
UID:1187-1682767800-1682782200@sustainableparties.com
SUMMARY:Spring Cleaning Swap & Share
DESCRIPTION:Bring any items to swap\, not just for clothing. Kids toys\, small applicances\, etc. Email rent@sustainableparties.com to confirm your attendance. Hope to see you there!
URL:https://sustainableparties.com/event/spring-cleaning-swap-share/
LOCATION:Veteran’s Sports Park\, 1645 Valencia Ave\, Tustin\, 92782\, United States
END:VEVENT
END:VCALENDAR