BEGIN:VCALENDAR
VERSION:2.0
PRODID:-//Sustainable Parties  - ECPv6.15.19//NONSGML v1.0//EN
CALSCALE:GREGORIAN
METHOD:PUBLISH
X-WR-CALNAME:Sustainable Parties 
X-ORIGINAL-URL:https://sustainableparties.com
X-WR-CALDESC:Events for Sustainable Parties 
REFRESH-INTERVAL;VALUE=DURATION:PT1H
X-Robots-Tag:noindex
X-PUBLISHED-TTL:PT1H
BEGIN:VTIMEZONE
TZID:UTC
BEGIN:STANDARD
TZOFFSETFROM:+0000
TZOFFSETTO:+0000
TZNAME:UTC
DTSTART:20220101T000000
END:STANDARD
END:VTIMEZONE
BEGIN:VEVENT
DTSTART;TZID=UTC:20230318T113000
DTEND;TZID=UTC:20230318T143000
DTSTAMP:20260422T024205
CREATED:20230310T201400Z
LAST-MODIFIED:20230316T225045Z
UID:1118-1679139000-1679149800@sustainableparties.com
SUMMARY:St. Patrick's Community Swap & Share
DESCRIPTION:Join us for a swap & share St. Patrick’s Day weekend! This lucky holiday could give you just the right luck in finding the right items 🙂
URL:https://sustainableparties.com/event/st-patricks-community-swap-share/
LOCATION:Veteran’s Sports Park\, 1645 Valencia Ave\, Tustin\, 92782\, United States
END:VEVENT
END:VCALENDAR